

BEGIN:VCALENDAR
VERSION:2.0
PRODID:-//Asociación Correa de Arauxo - ECPv6.15.20//NONSGML v1.0//EN
CALSCALE:GREGORIAN
METHOD:PUBLISH
X-WR-CALNAME:Asociación Correa de Arauxo
X-ORIGINAL-URL:https://acorreadearauxosg.com
X-WR-CALDESC:Events for Asociación Correa de Arauxo
REFRESH-INTERVAL;VALUE=DURATION:PT1H
X-Robots-Tag:noindex
X-PUBLISHED-TTL:PT1H
BEGIN:VTIMEZONE
TZID:Europe/Madrid
BEGIN:DAYLIGHT
TZOFFSETFROM:+0100
TZOFFSETTO:+0200
TZNAME:CEST
DTSTART:20230326T010000
END:DAYLIGHT
BEGIN:STANDARD
TZOFFSETFROM:+0200
TZOFFSETTO:+0100
TZNAME:CET
DTSTART:20231029T010000
END:STANDARD
BEGIN:DAYLIGHT
TZOFFSETFROM:+0100
TZOFFSETTO:+0200
TZNAME:CEST
DTSTART:20240331T010000
END:DAYLIGHT
BEGIN:STANDARD
TZOFFSETFROM:+0200
TZOFFSETTO:+0100
TZNAME:CET
DTSTART:20241027T010000
END:STANDARD
BEGIN:DAYLIGHT
TZOFFSETFROM:+0100
TZOFFSETTO:+0200
TZNAME:CEST
DTSTART:20250330T010000
END:DAYLIGHT
BEGIN:STANDARD
TZOFFSETFROM:+0200
TZOFFSETTO:+0100
TZNAME:CET
DTSTART:20251026T010000
END:STANDARD
END:VTIMEZONE
BEGIN:VEVENT
DTSTART;TZID=Europe/Madrid:20241214T170000
DTEND;TZID=Europe/Madrid:20241214T190000
DTSTAMP:20260422T055310
CREATED:20240930T160454Z
LAST-MODIFIED:20241212T170611Z
UID:3311-1734195600-1734202800@acorreadearauxosg.com
SUMMARY:Audición de Órgano para niños
DESCRIPTION:Este sábado\, 14 de diciembre\, a las 17:00h y con entrada gratuita\, la Asociación “Correa de Arauxo” celebra su tradicional concierto de órgano para niños en la Catedral de Segovia. Se trata de la actividad más emblemática que organiza nuestra asociación\, ya que muestra todos los “secretos” del instrumento a los más pequeños que se acercan con mucha curiosidad\, en un concierto que además está protagonizado por niños. En esta ocasión\, se contará con la participación de alumnos de conservatorios y escuelas de música de Segovia y Madrid. \nDirigirá el acto Fernando Ferrándiz y participarán Andrea Lorente\, Daniel Martínez\, Lucía Hernández\, Sedona Carmona\, Oliver M. López\, Nicolás Serwin\, Adrián Pérez y Eloy Lurueña. Interpretarán diferentes obras del repertorio organístico y villancicos navideños. \nCon esta actividad\, la Asociación “Correa de Arauxo” de Amigos del Órgano de Segovia desea a todos una Feliz Navidad y un próspero año 2025\, que esperemos venga lleno de música y de muchas actividades organísticas. \nEsta actividad forma parte\, además\, de los actos programados con motivo de la Navidad por el Excmo. Ayuntamiento de Segovia. Colabora: Cabildo de la Catedral de Segovia \n			\n			\n				\n				\n				\n				\n			\n				\n				\n				\n				\n				\n				\n				\n				\n				\n				\n				Programa:\n Andrea Lorente – Carol of the bells (Mykola Leontovych 1877-1921) \nDaniel Martínez – O Christmas tree (Melchior Franck 1579-1639) \nLucía Hernández – Deck the hall (Popular galesa S.XVI) \nSedona Carmona – Minuetto en Sol m (W.A. Mozart 1756-1791) \nOliver Miguel López – Minuetto BWV Anh 114 (J.S. Bach 1685-1750) \nNicolás Serwin Pazdan – Minuetto (L. Mozart 1719-1787) \nAdrián Pérez – Diferencias sobre la gaita (Anónimo Fr. Antonio Martín y Coll S.XVIII) \nEloy Lurueña – Pavana hispánica (J.P. Sweelink 1562-1621)
URL:https://acorreadearauxosg.com/evento/audicion-organo-ninos/
LOCATION:Capilla del Santísimo – Catedral de Segovia\, C/ Marqués del Arco\, 1\, Segovia\, Segovia\, 40001\, Spain
CATEGORIES:Ciclo de Conciertos 2024
ATTACH;FMTTYPE=image/jpeg:https://acorreadearauxosg.com/wp-content/uploads/2024/09/realejo_membr-gigapixel-low_res-scale-2_00x.jpg
ORGANIZER;CN="Asociaci%C3%B3n Correa de Arauxo":MAILTO:asociacioncorreadearauxo@gmail.com
END:VEVENT
END:VCALENDAR