

BEGIN:VCALENDAR
VERSION:2.0
PRODID:-//Asociación Correa de Arauxo - ECPv6.15.20//NONSGML v1.0//EN
CALSCALE:GREGORIAN
METHOD:PUBLISH
X-WR-CALNAME:Asociación Correa de Arauxo
X-ORIGINAL-URL:https://acorreadearauxosg.com
X-WR-CALDESC:Events for Asociación Correa de Arauxo
REFRESH-INTERVAL;VALUE=DURATION:PT1H
X-Robots-Tag:noindex
X-PUBLISHED-TTL:PT1H
BEGIN:VTIMEZONE
TZID:Europe/Madrid
BEGIN:DAYLIGHT
TZOFFSETFROM:+0100
TZOFFSETTO:+0200
TZNAME:CEST
DTSTART:20240331T010000
END:DAYLIGHT
BEGIN:STANDARD
TZOFFSETFROM:+0200
TZOFFSETTO:+0100
TZNAME:CET
DTSTART:20241027T010000
END:STANDARD
BEGIN:DAYLIGHT
TZOFFSETFROM:+0100
TZOFFSETTO:+0200
TZNAME:CEST
DTSTART:20250330T010000
END:DAYLIGHT
BEGIN:STANDARD
TZOFFSETFROM:+0200
TZOFFSETTO:+0100
TZNAME:CET
DTSTART:20251026T010000
END:STANDARD
BEGIN:DAYLIGHT
TZOFFSETFROM:+0100
TZOFFSETTO:+0200
TZNAME:CEST
DTSTART:20260329T010000
END:DAYLIGHT
BEGIN:STANDARD
TZOFFSETFROM:+0200
TZOFFSETTO:+0100
TZNAME:CET
DTSTART:20261025T010000
END:STANDARD
END:VTIMEZONE
BEGIN:VEVENT
DTSTART;TZID=Europe/Madrid:20251011T193000
DTEND;TZID=Europe/Madrid:20251011T203000
DTSTAMP:20260422T074658
CREATED:20251004T104124Z
LAST-MODIFIED:20251006T123113Z
UID:3870-1760211000-1760214600@acorreadearauxosg.com
SUMMARY:Carlos Bollo
DESCRIPTION:El 11 de octubre\, a las 19:30\, la Catedral de Segovia recibirá al organista Carlos Bollo\, natural de Mugardos (Galicia) y una de las jóvenes promesas del panorama organístico español. Formado en el Conservatorio Xan Viaño de Ferrol\, donde obtuvo Matrícula de Honor en Piano e Improvisación\, continuó sus estudios en el Prins Claus Conservatorium de Groningen (Países Bajos)\, graduándose con la máxima distinción en Órgano y Piano bajo la tutela de Erwin Wiersinga\, Sietze de Vries y Nata Tsvereli. \nSu sólida formación incluye también estudios de fortepiano\, clave y bajo continuo\, además de clases magistrales con destacados intérpretes internacionales. Galardonado con el Primer Premio y el Premio “Montserrat Torrent” en el V Concurso de Órgano Francisco Salinas de Burgos\, desarrolla una intensa actividad concertística en Europa\, donde ha sido reconocido por su expresividad y su talento para la improvisación. \nDesde 2024\, es organista titular de la Catedral de León\, compaginando esta labor con su carrera internacional. En su recital en Segovia\, ofrecerá un programa que combina obras de compositores europeos del periodo barroco con improvisaciones propias\, estableciendo un diálogo vivo entre la tradición y la creación del instante. \n			\n			\n				\n				\n				\n				\n			\n				\n				\n				\n				\n				\n				\n				\n				\n				\n				\n				Programa:\nToccata X    Georg Muffat (1653-1704) \nCanzon in G    Matthias Weckmann (1619-1674) \nMein Junges Leben hat ein End     Jan Pieterszoon Sweelinck (1562-1621) \nBenedicam Domino (Intabulación de un motete de Jacob Praetorius)   H. Scheidemann (1596-1663) \nFantasia Chromatica   Jan Pieterszoon Sweelinck \nImprovisación   Carlos Bollo (2000*) \nPartite diverse sopra “O Gott\, du frommer Gott” BWV 767    Johann Sebastian Bach (1685-1750)
URL:https://acorreadearauxosg.com/evento/carlos-j-fernandez-bollo/
LOCATION:Catedral de Segovia\, C/ Marqués del Arco\, 1\, Segovia\, Segovia\, 40001\, Spain
END:VEVENT
END:VCALENDAR