

BEGIN:VCALENDAR
VERSION:2.0
PRODID:-//Asociación Correa de Arauxo - ECPv6.15.20//NONSGML v1.0//EN
CALSCALE:GREGORIAN
METHOD:PUBLISH
X-WR-CALNAME:Asociación Correa de Arauxo
X-ORIGINAL-URL:https://acorreadearauxosg.com
X-WR-CALDESC:Events for Asociación Correa de Arauxo
REFRESH-INTERVAL;VALUE=DURATION:PT1H
X-Robots-Tag:noindex
X-PUBLISHED-TTL:PT1H
BEGIN:VTIMEZONE
TZID:Europe/Madrid
BEGIN:DAYLIGHT
TZOFFSETFROM:+0100
TZOFFSETTO:+0200
TZNAME:CEST
DTSTART:20230326T010000
END:DAYLIGHT
BEGIN:STANDARD
TZOFFSETFROM:+0200
TZOFFSETTO:+0100
TZNAME:CET
DTSTART:20231029T010000
END:STANDARD
BEGIN:DAYLIGHT
TZOFFSETFROM:+0100
TZOFFSETTO:+0200
TZNAME:CEST
DTSTART:20240331T010000
END:DAYLIGHT
BEGIN:STANDARD
TZOFFSETFROM:+0200
TZOFFSETTO:+0100
TZNAME:CET
DTSTART:20241027T010000
END:STANDARD
BEGIN:DAYLIGHT
TZOFFSETFROM:+0100
TZOFFSETTO:+0200
TZNAME:CEST
DTSTART:20250330T010000
END:DAYLIGHT
BEGIN:STANDARD
TZOFFSETFROM:+0200
TZOFFSETTO:+0100
TZNAME:CET
DTSTART:20251026T010000
END:STANDARD
END:VTIMEZONE
BEGIN:VEVENT
DTSTART;TZID=Europe/Madrid:20241012T193000
DTEND;TZID=Europe/Madrid:20241012T213000
DTSTAMP:20260422T055534
CREATED:20240929T215213Z
LAST-MODIFIED:20241011T121534Z
UID:3114-1728761400-1728768600@acorreadearauxosg.com
SUMMARY:Homenaje a Mons. Alfonso Frechel
DESCRIPTION:Mons. Alfonso María Frechel Merino (Segovia\, 1936)\, sacerdote\, maestro de capilla\, prefecto de música\, Canciller del Obispado\, Prelado de Honor del Papa Benedicto XV y Deán Emérito de la Catedral de Segovia\, ha dedicado su vida al servicio eclesiástico y a la promoción de la música sacra en Segovia.  \nFundador y presidente de la Asociación “Correa de Arauxo” de Amigos del Órgano de Segovia\, ha sido un incansable impulsor de la música de órgano en la región\, logrando la inclusión de esta disciplina en el Conservatorio de Segovia. Bajo su liderazgo\, la Asociación ha organizado numerosos conciertos en la catedral y otras iglesias\, enriqueciendo la vida cultural y espiritual de la comunidad durante más de 27 años. \n			\n			\n				\n				\n				\n				\n			\n				\n				\n				\n				\n				\n				\n				\n				\n				\n				\n				Programa:\n  \n\nE. Torres (1872-1934): In modo antico.Organista: Manuel de Pablos\nF. Correa de Arauxo (1584-1654): 2do. tiento de medio registro de tiple de 7mo. tono.Organista: David Largo\nA. Frechel (1936): Himno a la Virgen de la Cruz.Organista: Javier Santos / Dulzaina: Ricardo Ramos\nF. Correa de Arauxo (1584-1654): Tiento y discurso del 2do. tono.Organista: Ángel Montero\nN. Casanoves (1747-1799): Sonata de Clarines.Organista: David Largo\nA. Frechel (1936): Bendito tu señor.Organista: Manuel de Pablos / Canto: Ma. Eugenia Barcia\nAnon. (recop. Martín y Coll): Bayle del Gran Duque.Organistas: Javier Santos y Ángel Montero
URL:https://acorreadearauxosg.com/evento/homenaje-mons-alfonso-frechel/
LOCATION:Catedral de Segovia\, C/ Marqués del Arco\, 1\, Segovia\, Segovia\, 40001\, Spain
CATEGORIES:Ciclo de Conciertos 2024
ATTACH;FMTTYPE=image/webp:https://acorreadearauxosg.com/wp-content/uploads/2024/09/catedral.webp
ORGANIZER;CN="Asociaci%C3%B3n Correa de Arauxo":MAILTO:asociacioncorreadearauxo@gmail.com
END:VEVENT
END:VCALENDAR