

BEGIN:VCALENDAR
VERSION:2.0
PRODID:-//Asociación Correa de Arauxo - ECPv6.15.20//NONSGML v1.0//EN
CALSCALE:GREGORIAN
METHOD:PUBLISH
X-WR-CALNAME:Asociación Correa de Arauxo
X-ORIGINAL-URL:https://acorreadearauxosg.com
X-WR-CALDESC:Events for Asociación Correa de Arauxo
REFRESH-INTERVAL;VALUE=DURATION:PT1H
X-Robots-Tag:noindex
X-PUBLISHED-TTL:PT1H
BEGIN:VTIMEZONE
TZID:Europe/Madrid
BEGIN:DAYLIGHT
TZOFFSETFROM:+0100
TZOFFSETTO:+0200
TZNAME:CEST
DTSTART:20230326T010000
END:DAYLIGHT
BEGIN:STANDARD
TZOFFSETFROM:+0200
TZOFFSETTO:+0100
TZNAME:CET
DTSTART:20231029T010000
END:STANDARD
BEGIN:DAYLIGHT
TZOFFSETFROM:+0100
TZOFFSETTO:+0200
TZNAME:CEST
DTSTART:20240331T010000
END:DAYLIGHT
BEGIN:STANDARD
TZOFFSETFROM:+0200
TZOFFSETTO:+0100
TZNAME:CET
DTSTART:20241027T010000
END:STANDARD
BEGIN:DAYLIGHT
TZOFFSETFROM:+0100
TZOFFSETTO:+0200
TZNAME:CEST
DTSTART:20250330T010000
END:DAYLIGHT
BEGIN:STANDARD
TZOFFSETFROM:+0200
TZOFFSETTO:+0100
TZNAME:CET
DTSTART:20251026T010000
END:STANDARD
END:VTIMEZONE
BEGIN:VEVENT
DTSTART;TZID=Europe/Madrid:20241102T193000
DTEND;TZID=Europe/Madrid:20241102T213000
DTSTAMP:20260425T032308
CREATED:20240929T215213Z
LAST-MODIFIED:20241028T115031Z
UID:3135-1730575800-1730583000@acorreadearauxosg.com
SUMMARY:Juan San Martín
DESCRIPTION:Juan San Martín (1979). Estudió órgano en el Conservatorio Profesional de Música de Zaragoza\, terminando con Premio Extraordinario fin de Grado Medio. Continuó con José Luis González Uriol en el Conservatorio Superior de Música de Zaragoza obteniendo Matrícula de Honor y Premio Extraordinario fin de Grado Superior.  A su vez tiene las titulaciones superiores de Solfeo\, Teoría de la Música\, Transposición y Acompañamiento\, Clave y Órgano. Máster en investigación musical. \nHa realizado cursos de perfeccionamiento con Montserrat Torrent\, Winfried Bönig\, Jean Claude Zhender\, Guy Bovet\, Giancarlo Parodi\, Michael Bouvard\, Klemens Schnorr entre otros. De su labor como concertista destaca su participación en importantes ciclos tanto de ámbito nacional como internacional (Rusia\, Italia\, Francia\, Alemania\, Inglaterra…). \nPor oposición es el Organista Titular de la Catedral Basílica Nuestra Señora del Pilar de Zaragoza. Ha sido profesor de clave en el Conservatorio Profesional de Música de Las Palmas de Gran Canaria (2004). De 2005-2023 profesor de improvisación y acompañamiento en el Conservatorio Superior de Música de Aragón (CSMA). Desde 2023 profesor de número en la cátedra de improvisación y acompañamiento del Conservatorio Superior de Música de Navarra. \n			\n			\n				\n				\n				\n				\n			\n				\n				\n				\n				\n				\n				\n				\n				\n				\n				\n				Programa:\n\nJ. C. Kerll (1627-1693)Passacaglia\n P. Bruna (1611-1679)– Medio registro bajo de 8° tono– Tiento de falsas de 2° tono– Tiento de primer tono de mano derecha\nB. Pasquini (1637-1710)Variazioni per il paggio Todesco\nW. Byrd (1540-1623)The Queen’s Alman\nF. Bendusi ( -1556)Danza\nG. Böhm (1661-1733)Preludium – Fuga – Postludium sol menor\n J. S. Bach (1685-1750)Canzona BWV 588\nA. Willscher (1955- )– Batalla de clarines– Variaciones Coral: Gen aus\, mein Herz\, und suche Freud
URL:https://acorreadearauxosg.com/evento/juan-san-martin/
LOCATION:Catedral de Segovia\, C/ Marqués del Arco\, 1\, Segovia\, Segovia\, 40001\, Spain
CATEGORIES:Ciclo de Conciertos 2024
ATTACH;FMTTYPE=image/jpeg:https://acorreadearauxosg.com/wp-content/uploads/2024/09/MG_136bb-gigapixel-standard-scale-1_50x.jpg
ORGANIZER;CN="Asociaci%C3%B3n Correa de Arauxo":MAILTO:asociacioncorreadearauxo@gmail.com
END:VEVENT
END:VCALENDAR